BEGIN:VCALENDAR
PRODID:-//VisualPursuits//ClubSchedules//EN
VERSION:2.0
METHOD:PUBLISH
X-MS-OLK-FORCEINSPECTOROPEN:TRUE
BEGIN:VEVENT
CREATED:20260414T002500Z
DESCRIPTION:It's springtime, so of course we need to visit another gar
 den. Jenkins Arboretum is one of the prettiest in the Delaware Valley
 . We plan to be there at 9:00AM when they open, and then we will exp.
 lore for a couple of hours to photograph and walk. There is no fee, a
 nd there is an area if you would like to picnic. Take a look at theif
 r website for more details.\n
 \n
 Event URL: https://www.cccameraclub.org/Events/View/ce9f41f5-0851-49c
 0-9a68-67ed335d7b3f
UID:2631879a-1c29-4ff0-bce8-5c205e34d92d
DTSTAMP:20260423T150331Z
DTSTART:20260523T130000Z
DTEND:20260523T160000Z
LAST-MODIFIED:20260414T002500Z
PRIORITY:5
SEQUENCE:0
SUMMARY:Jenkins Arboretum Outing
TRANSP:OPAQUE
STATUS:NEEDS ACTION
BEGIN:VALARM
TRIGGER:-PT120M
ACTION:DISPLAY
DESCRIPTION:Reminder
END:VALARM
END:VEVENT
END:VCALENDAR
